BEGIN:VCALENDAR
VERSION:2.0
PRODID:-//MBG Corporate Services - ECPv5.14.1//NONSGML v1.0//EN
CALSCALE:GREGORIAN
METHOD:PUBLISH
X-WR-CALNAME:MBG Corporate Services
X-ORIGINAL-URL:https://www.mbgcorp.com/jpyjp
X-WR-CALDESC:Events for MBG Corporate Services
BEGIN:VTIMEZONE
TZID:UTC
BEGIN:STANDARD
TZOFFSETFROM:+0000
TZOFFSETTO:+0000
TZNAME:UTC
DTSTART:20180101T000000
END:STANDARD
END:VTIMEZONE
BEGIN:VEVENT
DTSTART;TZID=UTC:20181107T080000
DTEND;TZID=UTC:20181108T170000
DTSTAMP:20260420T140857
CREATED:20181102T030146Z
LAST-MODIFIED:20181102T063648Z
UID:854-1541577600-1541696400@www.mbgcorp.com
SUMMARY:Accounting & Finance Show Middle East 2018
DESCRIPTION:Working with an Advisory Board of leading practitioners\, advisers and tech companies we will bring you world-class conference content that fulfils the needs of Continuing Professional Development and gives you the insight and knowledge to be more effective in the office. And be more pro-active with customers.\n\nA few highlights of the topic discussed are:\n\n  Tax\, Regulation & Compliance Sessions- Located in TAX\, VAT & SME THEATRE sponsored by ZOHO\n   Practice Management Sessions- Located in PRACTICE MANAGEMENT THEATRE\n   Tech Theatre\n   Finance Directors’ Summit- Invite Only (Sponsored by SAP)\n  SME University – Located in TAX\, VAT & SME THEATRE sponsored by ZOHO\n   Payroll & Bookkeeping- Located in PRACTICE MANAGEMENT THEATRE\n\nMBGroup will be at the event to provide up-to-date professional information to the delegates and our partners about our in-depth local knowledge and world-class financial and business consulting capabilities during a variety of formal and informal meetings.\n\nBook a meeting with us and catch our expert at the event.\n\nDrop us a line: communications@mayurbatra.com
URL:https://www.mbgcorp.com/jpyjp/event/accounting-finance-show-middle-east-2018/
LOCATION:Le Méridien Dubai Hotel & Conference Centre\, Airport Road\,Garhoud Dubai\, United Arab Emirates
CATEGORIES:Dubai Events
ATTACH;FMTTYPE=image/png:https://www.mbgcorp.com/jpyjp/wp-content/uploads/sites/14/2018/11/accounting-finance-show-845x321-1.png
ORGANIZER;CN="Terrapinn":MAILTO:enquiry.me@terrapinn.com
END:VEVENT
END:VCALENDAR