BEGIN:VCALENDAR
VERSION:2.0
PRODID:-//MBG Corporate Services - ECPv5.14.1//NONSGML v1.0//EN
CALSCALE:GREGORIAN
METHOD:PUBLISH
X-WR-CALNAME:MBG Corporate Services
X-ORIGINAL-URL:https://www.mbgcorp.com/jpyjp
X-WR-CALDESC:Events for MBG Corporate Services
BEGIN:VTIMEZONE
TZID:Asia/Kolkata
BEGIN:STANDARD
TZOFFSETFROM:+0530
TZOFFSETTO:+0530
TZNAME:IST
DTSTART:20190101T000000
END:STANDARD
END:VTIMEZONE
BEGIN:VEVENT
DTSTART;VALUE=DATE:20190212
DTEND;VALUE=DATE:20190213
DTSTAMP:20260420T055937
CREATED:20190819T072326Z
LAST-MODIFIED:20190819T072326Z
UID:1927-1549929600-1550015999@www.mbgcorp.com
SUMMARY:Analysis of India Union Budget – 2019 Seminar
DESCRIPTION:Thank you for meeting us at the “Analysis of India Union Budget – 2019 Seminar” organized by The Institute of Chartered Accountants of India\, Abu Dhabi Chapter at Dusit Thani Hotel\, Abu Dhabi.\nMayur Batra Group UAE will continue to strengthen the bridge between the two countries and provide our expert professional advice to you on all business-related areas.
URL:https://www.mbgcorp.com/jpyjp/event/analysis-of-india-union-budget-2019-seminar/
END:VEVENT
END:VCALENDAR