BEGIN:VCALENDAR
VERSION:2.0
PRODID:-//MBG Corporate Services - ECPv5.14.1//NONSGML v1.0//EN
CALSCALE:GREGORIAN
METHOD:PUBLISH
X-WR-CALNAME:MBG Corporate Services
X-ORIGINAL-URL:https://www.mbgcorp.com/jpyjp
X-WR-CALDESC:Events for MBG Corporate Services
BEGIN:VTIMEZONE
TZID:Asia/Kolkata
BEGIN:STANDARD
TZOFFSETFROM:+0530
TZOFFSETTO:+0530
TZNAME:IST
DTSTART:20190101T000000
END:STANDARD
END:VTIMEZONE
BEGIN:VEVENT
DTSTART;TZID=Asia/Kolkata:20190710T080000
DTEND;TZID=Asia/Kolkata:20190710T170000
DTSTAMP:20260419T191408
CREATED:20190819T083521Z
LAST-MODIFIED:20190819T083521Z
UID:1945-1562745600-1562778000@www.mbgcorp.com
SUMMARY:Decoding Indian Union Budget 2019-20
DESCRIPTION:We congratulate @ICAI Dubai Chapter for a successful budget event in Dubai. It was indeed a pleasure to be a part of the panel and we look forward to being a part of more such events. We are thankful to @Khaleej Times for covering the latest ICAI – Abu Dhabi chapter’s event where a number of tax experts from the UAE and India discussed and analysed the budget.\nWe were grateful to be a panelist of the key discussion. At the event\, our COO Mr. Amit Sachdev\, said that reaching the $5 trillion goal is challenging but possible.
URL:https://www.mbgcorp.com/jpyjp/event/decoding-indian-union-budget-2019-20/
LOCATION:Dubai\, United Arab Emirates
END:VEVENT
END:VCALENDAR