BEGIN:VCALENDAR
VERSION:2.0
PRODID:-//MBG Corporate Services - ECPv5.14.1//NONSGML v1.0//EN
CALSCALE:GREGORIAN
METHOD:PUBLISH
X-WR-CALNAME:MBG Corporate Services
X-ORIGINAL-URL:https://www.mbgcorp.com/jpyjp
X-WR-CALDESC:Events for MBG Corporate Services
BEGIN:VTIMEZONE
TZID:Asia/Kolkata
BEGIN:STANDARD
TZOFFSETFROM:+0530
TZOFFSETTO:+0530
TZNAME:IST
DTSTART:20180101T000000
END:STANDARD
END:VTIMEZONE
BEGIN:VEVENT
DTSTART;VALUE=DATE:20180125
DTEND;VALUE=DATE:20180126
DTSTAMP:20260420T153245
CREATED:20190819T071835Z
LAST-MODIFIED:20190819T071835Z
UID:1923-1516838400-1516924799@www.mbgcorp.com
SUMMARY:Philippine Institute of Certified Public Accountants Seminar 2019
DESCRIPTION:Stefania Di Lascio\, Director\, M&A and Risk Advisory was the keynote speaker on crucial aspects of Enterprise Risk Management Framework and M&A Practices at the Philippine Institute of Certified Public Accountants Seminar 2019.
URL:https://www.mbgcorp.com/jpyjp/event/philippine-institute-of-certified-public-accountants-seminar-2019/
LOCATION:Dubai\, United Arab Emirates
END:VEVENT
END:VCALENDAR